{
 "currentVersion": 10.7,
 "serviceDescription": "Geodata/Basemap_ITRF1",
 "name": "Geodata/Basemap_ITRF1",
 "description": "",
 "extent": {
  "xmin": -0.25004400000001786,
  "ymin": 6.111788999999923,
  "xmax": 2.000030999999982,
  "ymax": 11.137706999999923,
  "spatialReference": {
   "wkid": 104121,
   "latestWkid": 104121
  }
 },
 "initialExtent": {
  "xmin": -0.25004400000001786,
  "ymin": 6.111788999999923,
  "xmax": 2.000030999999982,
  "ymax": 11.137706999999923,
  "spatialReference": {
   "wkid": 104121,
   "latestWkid": 104121
  }
 },
 "fullExtent": {
  "xmin": -0.25004400000001786,
  "ymin": 6.111788999999923,
  "xmax": 2.000030999999982,
  "ymax": 11.137706999999923,
  "spatialReference": {
   "wkid": 104121,
   "latestWkid": 104121
  }
 },
 "pixelSizeX": 5.6999999999999996E-5,
 "pixelSizeY": 5.6999999999999996E-5,
 "bandCount": 3,
 "pixelType": "U16",
 "minPixelSize": 0,
 "maxPixelSize": 0,
 "copyrightText": "",
 "serviceDataType": "esriImageServiceDataTypeGeneric",
 "minValues": [
  0,
  0,
  0
 ],
 "maxValues": [
  255,
  255,
  255
 ],
 "meanValues": [
  217.6198078198414,
  224.79129666353143,
  222.09400156633976
 ],
 "stdvValues": [
  54.60337129093766,
  49.57861722992012,
  51.11759785360111
 ],
 "objectIdField": "",
 "fields": [],
 "capabilities": "Image,Metadata,Mensuration",
 "defaultMosaicMethod": "Center",
 "allowedMosaicMethods": "",
 "sortField": "",
 "sortValue": null,
 "mosaicOperator": "First",
 "defaultCompressionQuality": 75,
 "defaultResamplingMethod": "Bilinear",
 "maxImageHeight": 4100,
 "maxImageWidth": 15000,
 "allowRasterFunction": true,
 "rasterFunctionInfos": [
  {
   "name": "None",
   "description": "",
   "help": ""
  }
 ],
 "rasterTypeInfos": [
  {
   "name": "Raster Dataset",
   "description": "Supports all ArcGIS Raster Datasets",
   "help": ""
  }
 ],
 "mensurationCapabilities": "Basic",
 "hasHistograms": true,
 "hasColormap": false,
 "hasRasterAttributeTable": false,
 "minScale": 0,
 "maxScale": 0,
 "exportTilesAllowed": false,
 "hasMultidimensions": false,
 "supportsStatistics": false,
 "supportsAdvancedQueries": false,
 "editFieldsInfo": null,
 "ownershipBasedAccessControlForRasters": null,
 "allowComputeTiePoints": false,
 "useStandardizedQueries": true,
 "advancedQueryCapabilities": {
  "useStandardizedQueries": true,
  "supportsStatistics": false,
  "supportsOrderBy": false,
  "supportsDistinct": false,
  "supportsPagination": false
 },
 "spatialReference": {
  "wkid": 104121,
  "latestWkid": 104121
 }
}
