View In:
ArcGIS JavaScript
ArcGIS Online Map Viewer
ArcGIS Earth
ArcMap
View Footprint In:
ArcGIS Online Map Viewer
Service Description: Geodata/Basemap_ITRF1
Name: Geodata/Basemap_ITRF1
Description:
Single Fused Map Cache: false
Extent:
XMin: -0.25004400000001786
YMin: 6.111788999999923
XMax: 2.000030999999982
YMax: 11.137706999999923
Spatial Reference: 104121
(104121)
Initial Extent:
XMin: -0.25004400000001786
YMin: 6.111788999999923
XMax: 2.000030999999982
YMax: 11.137706999999923
Spatial Reference: 104121
(104121)
Full Extent:
XMin: -0.25004400000001786
YMin: 6.111788999999923
XMax: 2.000030999999982
YMax: 11.137706999999923
Spatial Reference: 104121
(104121)
Pixel Size X: 5.6999999999999996E-5
Pixel Size Y: 5.6999999999999996E-5
Band Count: 3
Pixel Type: U16
RasterFunction Infos: {"rasterFunctionInfos": [{
"name": "None",
"description": "",
"help": ""
}]}
Mensuration Capabilities: Basic
Has Histograms: true
Has Colormap: false
Has Multi Dimensions : false
Rendering Rule:
Min Scale: 0
Max Scale: 0
Copyright Text:
Service Data Type: esriImageServiceDataTypeGeneric
Min Values: 0, 0, 0
Max Values: 255, 255, 255
Mean Values: 217.6198078198414, 224.79129666353143, 222.09400156633976
Standard Deviation Values: 54.60337129093766, 49.57861722992012, 51.11759785360111
Object ID Field:
Fields:
None
Default Mosaic Method: Center
Allowed Mosaic Methods:
SortField:
SortValue: null
Mosaic Operator: First
Default Compression Quality: 75
Default Resampling Method: Bilinear
Max Record Count: null
Max Image Height: 4100
Max Image Width: 15000
Max Download Image Count: null
Max Mosaic Image Count: null
Allow Raster Function: true
Allow Compute TiePoints: false
Supports Statistics: false
Supports Advanced Queries: false
Use StandardizedQueries: true
Raster Type Infos:
Name: Raster Dataset
Description: Supports all ArcGIS Raster Datasets
Help:
Has Raster Attribute Table: false
Edit Fields Info: null
Ownership Based AccessControl For Rasters: null
Child Resources:
Info
Histograms
Key Properties
Legend
MultiDimensionalInfo
rasterFunctionInfos
Supported Operations:
Export Image
Identify
Measure
Compute Histograms
Compute Statistics Histograms
Get Samples
Compute Class Statistics
Query Boundary
Compute Pixel Location